Workbook
Name bikeped: #REF!

Sheet Project Summary
A1: Project Number | B1: 173042
A2: Project Name | B2: Culver City Tri-Schools
G3: Permitted Left Turn Metadata
B4: TO VIEW LOCATION DETAILS, SELECT LINKS BELOW
D7: Total Conflicts | G7: Veh - Veh Conflicts | J7: Ped - Veh Conflicts | M7: Bike - Veh Conflicts | P7: Highlights
A8: Site Code(s) | B8: Site Name | C8: Total Hr | D8: 0.0 - 1.5s | E8: 1.5 - 2.0s | F8: 2.0 - 3.0s | G8: 0.0 - 1.5s | H8: 1.5 - 2.0s | I8: 2.0 - 3.0s | J8: 0.0 - 1.5s | K8: 1.5 - 2.0s | L8: 2.0 - 3.0s | M8: 0.0 - 1.5s | N8: 1.5 - 2.0s | O8: 2.0 - 3.0s | P8: By Location
A9: 254,255,256 | B9: Farragut Dr - Elenda St | C9: 72 | D9: =G9+J9+M9 -> 2 | E9: =H9+K9+N9 -> 11 | F9: =I9+L9+O9 -> 177 | G9: 0 | H9: 0 | I9: 0 | J9: 2 | K9: 11 | L9: 165 | M9: 0 | N9: 0 | O9: 12 | P9: Video Compilation
A10: 257,258,259 | B10: Franklin Ave - Elenda St | C10: 72 | D10: =G10+J10+M10 -> 4 | E10: =H10+K10+N10 -> 9 | F10: =I10+L10+O10 -> 80 | G10: 0 | H10: 0 | I10: 2 | J10: 4 | K10: 7 | L10: 62 | M10: 0 | N10: 2 | O10: 16 | P10: Video Compilation
A11: 260,261,262 | B11: Braddock Dr - Elenda St | C11: 72 | D11: =G11+J11+M11 -> 9 | E11: =H11+K11+N11 -> 25 | F11: =I11+L11+O11 -> 115 | G11: 0 | H11: 0 | I11: 2 | J11: 7 | K11: 7 | L11: 60 | M11: 2 | N11: 18 | O11: 53 | P11: Video Compilation
A12: 263,264,265 | B12: Lindblade St - Elenda St | C12: 72 | D12: =G12+J12+M12 -> 5 | E12: =H12+K12+N12 -> 3 | F12: =I12+L12+O12 -> 45 | G12: 0 | H12: 0 | I12: 2 | J12: 5 | K12: 2 | L12: 30 | M12: 0 | N12: 1 | O12: 13 | P12: Video Compilation
A13: 266,267,268 | B13: Farragut Dr - Harter Ave/St Nicholas Ave | C13: 72 | D13: =G13+J13+M13 -> 2 | E13: =H13+K13+N13 -> 6 | F13: =I13+L13+O13 -> 40 | G13: 0 | H13: 0 | I13: 0 | J13: 2 | K13: 6 | L13: 40 | M13: 0 | N13: 0 | O13: 0 | P13: Video Compilation
A14: 269,270,271 | B14: Garfield Ave - Elenda St | C14: 72 | D14: =G14+J14+M14 -> 1 | E14: =H14+K14+N14 -> 5 | F14: =I14+L14+O14 -> 28 | G14: 0 | H14: 0 | I14: 6 | J14: 1 | K14: 5 | L14: 21 | M14: 0 | N14: 0 | O14: 1 | P14: --
A15: 272,273,274 | B15: Ocean Dr - Westwood Blvd | C15: 72 | D15: =G15+J15+M15 -> 4 | E15: =H15+K15+N15 -> 7 | F15: =I15+L15+O15 -> 97 | G15: 0 | H15: 0 | I15: 2 | J15: 3 | K15: 6 | L15: 76 | M15: 1 | N15: 1 | O15: 19 | P15: Video Compilation
A18: Website | B18: www.QualityCounts.net
A19: Email | B19: info@QualityCounts.net
A20: Phone | B20: 971.223.0000

Sheet Summary Statistics
A1: Project Number | B1: ='Project Summary'!B1 -> 173042
A2: Project Name | B2: ='Project Summary'!B2 -> Culver City Tri-Schools
B4: TO VIEW LOCATION DETAILS, SELECT LINKS BELOW
D7: Average Speed (MPH) | E7: Left Turn Conflicts with Peds (First Conflicting Leg) | I7: Left Turn Conflicts with Peds (Second Conflicting Leg) | M7: Right Turn Conflicts with Peds (First Conflicting Leg) | Q7: Right Turn Conflicts with Peds (Second Conflicting Leg) | U7: Thru Vehicle Conflicts with Peds (Entire Intersection) | AC7: Permitted Left Turn Conflicts
E8: NB Left | F8: SB Left | G8: EB Left | H8: WB Left | I8: NB Left | J8: SB Left | K8: EB Left | L8: WB Left | M8: NB Right | N8: SB Right | O8: EB Right | P8: WB Right | Q8: NB Right | R8: SB Right | S8: EB Right | T8: WB Right | U8: NB Thru | W8: SB Thru | Y8: EB Thru | AA8: WB Thru
A9: Site Code(s) | B9: Site Name | C9: Total Hr | D9: Thru Vehicles | E9: South Leg | F9: North Leg | G9: West Leg | H9: East Leg | I9: West Leg | J9: East Leg | K9: North Leg | L9: South Leg | M9: South Leg | N9: North Leg | O9: West Leg | P9: East Leg | Q9: East Leg | R9: West Leg | S9: South Leg | T9: North Leg | U9: Conflicts | V9: Avg. Speed | W9: Conflicts | X9: Avg. Speed | Y9: Conflicts | Z9: Avg. Speed | AA9: Conflicts | AB9: Avg. Speed | AC9: NB Left | AD9: Avg Thru Speed | AE9: Percentile (NAT) | AF9: SB Left | AG9: Avg Thru Speed | AH9: Percentile (Nat) | AI9: EB Left | AJ9: Avg Thru Speed | AK9: Percentile (Nat) | AL9: WB Left | AM9: Avg Thru Speed | AN9: Percentile (Nat)
A10: ='Project Summary'!A9 -> 254,255,256 | B10: Farragut Dr - Elenda St | C10: ='Project Summary'!C9 -> 72 | D10: 6.3746269 | E10: 0 | F10: 5 | G10: 17 | H10: 0 | I10: 0 | J10: 9 | K10: 26 | L10: 0 | M10: 0 | N10: 40 | O10: 0 | P10: 1 | Q10: 0 | R10: 14 | S10: 0 | T10: 0 | U10: 0 | V10: -- | W10: 0 | X10: -- | Y10: 64 | Z10: 6.3 | AA10: 1 | AB10: 13.4 | AC10: no NBL | AD10: -- | AE10: -- | AF10: no opp. Thru | AG10: -- | AH10: -- | AI10: 0 | AJ10: -- | AK10: -- | AL10: no WBL | AM10: -- | AN10: --
A11: ='Project Summary'!A10 -> 257,258,259 | B11: Franklin Ave - Elenda St | C11: ='Project Summary'!C10 -> 72 | D11: 13.970213 | E11: 0 | F11: 4 | G11: 1 | H11: 0 | I11: 0 | J11: 1 | K11: 4 | L11: 0 | M11: 0 | N11: 11 | O11: 0 | P11: 2 | Q11: 0 | R11: 2 | S11: 0 | T11: 7 | U11: 0 | V11: -- | W11: 0 | X11: -- | Y11: 30 | Z11: 11.045455 | AA11: 11 | AB11: 15.745455 | AC11: no NBL | AD11: -- | AE11: -- | AF11: no opp. Thru | AG11: -- | AH11: -- | AI11: 2 | AJ11: 15.7 | AK11: 0.0322 | AL11: no WBL | AM11: -- | AN11: --
A12: ='Project Summary'!A11 -> 260,261,262 | B12: Braddock Dr - Elenda St | C12: ='Project Summary'!C11 -> 72 | D12: 14.056436 | E12: 1 | F12: 1 | G12: 0 | H12: 2 | I12: 1 | J12: 2 | K12: 2 | L12: 2 | M12: 3 | N12: 0 | O12: 3 | P12: 1 | Q12: 4 | R12: 2 | S12: 1 | T12: 0 | U12: 17 | V12: 13.45 | W12: 21 | X12: 12.885714 | Y12: 9 | Z12: 13.5125 | AA12: 2 | AB12: 8.4 | AC12: 1 | AD12: 16 | AE12: -- | AF12: 1 | AG12: 9.7 | AH12: -- | AI12: 0 | AJ12: -- | AK12: -- | AL12: 0 | AM12: -- | AN12: --
A13: ='Project Summary'!A12 -> 263,264,265 | B13: Lindblade St - Elenda St | C13: ='Project Summary'!C12 -> 72 | D13: 22.897826 | E13: 1 | F13: 1 | G13: 0 | H13: 0 | I13: 0 | J13: 0 | K13: 0 | L13: 0 | M13: 0 | N13: 0 | O13: 0 | P13: 0 | Q13: 0 | R13: 0 | S13: 1 | T13: 0 | U13: 3 | V13: 9.5666667 | W13: 0 | X13: -- | Y13: 20 | Z13: 23.885 | AA13: 11 | AB13: 26.145455 | AC13: 0 | AD13: -- | AE13: 0 | AF13: 0 | AG13: -- | AH13: 0 | AI13: 0 | AJ13: -- | AK13: 0 | AL13: 2 | AM13: 27 | AN13: 0.0322
A14: ='Project Summary'!A13 -> 266,267,268 | B14: Farragut Dr - Harter Ave/St Nicholas Ave | C14: ='Project Summary'!C13 -> 72 | D14: 10.016216 | E14: 0 | F14: 0 | G14: 0 | H14: 0 | I14: 1 | J14: 0 | K14: 0 | L14: 0 | M14: 0 | N14: 0 | O14: 1 | P14: 0 | Q14: 1 | R14: 0 | S14: 0 | T14: 0 | U14: 0 | V14: -- | W14: 0 | X14: -- | Y14: 21 | Z14: 10.8 | AA14: 24 | AB14: 9.1888889 | AC14: no opp. Thru | AD14: -- | AE14: -- | AF14: no SBL | AG14: -- | AH14: -- | AI14: no EBL | AJ14: -- | AK14: -- | AL14: 0 | AM14: -- | AN14: --
A15: ='Project Summary'!A14 -> 269,270,271 | B15: Garfield Ave - Elenda St | C15: ='Project Summary'!C14 -> 72 | D15: 16.238889 | E15: 0 | F15: 1 | G15: 0 | H15: 0 | I15: 0 | J15: 0 | K15: 0 | L15: 0 | M15: 0 | N15: 5 | O15: 0 | P15: 1 | Q15: 0 | R15: 2 | S15: 0 | T15: 4 | U15: 0 | V15: -- | W15: 0 | X15: -- | Y15: 8 | Z15: 12.3875 | AA15: 6 | AB15: 19.86 | AC15: no NBL | AD15: -- | AE15: -- | AF15: 4 | AG15: 19.5 | AH15: 0.1369 | AI15: 2 | AJ15: 15.8 | AK15: 0.0322 | AL15: no WBL | AM15: -- | AN15: --
A16: ='Project Summary'!A15 -> 272,273,274 | B16: Ocean Dr - Westwood Blvd | C16: ='Project Summary'!C15 -> 72 | D16: 9.403125 | E16: 0 | F16: 10 | G16: 0 | H16: 0 | I16: 0 | J16: 1 | K16: 0 | L16: 5 | M16: 5 | N16: 0 | O16: 0 | P16: 0 | Q16: 0 | R16: 0 | S16: 0 | T16: 16 | U16: 17 | V16: 10.486667 | W16: 31 | X16: 8.837037 | Y16: 0 | Z16: -- | AA16: 0 | AB16: -- | AC16: no NBL | AD16: -- | AE16: -- | AF16: 2 | AG16: 13.6 | AH16: -- | AI16: no EBL | AJ16: -- | AK16: -- | AL16: no opp. Thru | AM16: -- | AN16: --
AE18: For signalized intersections, left turns conflict with opposing thrus.
A19: Website | B19: www.QualityCounts.net | AE19: For TWSC primary movements, left turns conflict with opposing thrus.
A20: Email | B20: info@QualityCounts.net | AE20: For TWSC secondary movements, left turns conflict with primary thrus from the near lane.
A21: Phone | B21: 971.223.0000

Sheet Location Details
A1: TO VIEW LOCATION DETAILS, SELECT LINKS IN THE PROJECT SUMMARY TAB
A4: Site Name: | B4: Farragut Dr - Elenda St
A5: Total Conflicts: | B5: 190
A6: Total Hours Studied: | B6: 72
A8: Site Code | B8: Starting Time | C8: Ending Time | D8: Starting Date
A9: 254 | B9: 00:00:00 | C9: 00:00:00 | D9: 46000
A10: 255 | B10: 00:00:00 | C10: 00:00:00 | D10: 46001
A11: 256 | B11: 00:00:00 | C11: 00:00:00 | D11: 46002
A14: Near Miss Summary | B14: Veh-Veh | C14: Veh-Ped | D14: Veh-Bike | E14: Total | F14: Video Links
A15: 0.0 - 1.5s | B15: 0 | C15: 2 | D15: 0 | E15: 2 | F15: Link
A16: 1.6 - 2.0s | B16: 0 | C16: 11 | D16: 0 | E16: 11 | F16: Link
A17: 2.1 - 3.0s | B17: 0 | C17: 165 | D17: 12 | E17: 177 | F17: Link
A19: Highlight Reel | B19: Link
A20: Left Turn Metadata | B20: Link
A22: Near Misses by Movement Type | C22: 0.0-3.0s
A23: EB Thru | B23: EL Ped | C23: 35
A24: NL Ped | B24: SB Right | C24: 31
A25: EL Ped | B25: EB Thru | C25: 24
A26: EB Left | B26: NL Ped | C26: 23
A27: WL Ped | B27: EB Left | C27: 15
A28: SB Right | B28: WL Ped | C28: 11
A29: SB Right | B29: NL Ped | C29: 9
A30: SB Left | B30: EL Ped | C30: 9
A31: WL Ped | B31: EB Thru | C31: 5
A32: EB Left | B32: WL Bicycle | C32: 5
A33: NL Ped | B33: SB Left | C33: 4
A34: NL Ped | B34: EB Left | C34: 3
... A43: SB Left | B43: NL Ped | C43: 1
A46: PEDESTRIANS
A47: Movement 1 | B47: Movement 2 | C47: Ped Leg | D47: Vehicle class | E47: Movement 1 Speed (mph) | F47: Movement 2 Speed (mph) | G47: PET (sec) | H47: Event time | I47: Date | J47: Camera
A48: SB Right | B48: Ped | C48: NL | D48: cl2_passenger_car | E48: -- | F48: -- | G48: 2.95 | H48: 07:01:01 | I48: 46000 | J48: North West
A49: Ped | B49: SB Right | C49: NL | D49: cl2_passenger_car | E49: -- | F49: -- | G49: 2.82 | H49: 07:07:47 | I49: 46000 | J49: South West
A50: Ped | B50: SB Right | C50: NL | D50: cl2_passenger_car | E50: -- | F50: -- | G50: 2.48 | H50: 07:08:19 | I50: 46000 | J50: North West
A51: Ped | B51: SB Right | C51: NL | D51: cl2_passenger_car | E51: -- | F51: -- | G51: 2.8 | H51: 07:11:14 | I51: 46000 | J51: North West
A52: Ped | B52: EB Left | C52: NL | D52: cl2_passenger_car | E52: -- | F52: -- | G52: 2.84 | H52: 07:14:25 | I52: 46000 | J52: South West
A53: Ped | B53: EB Thru | C53: EL | D53: cl2_passenger_car | E53: -- | F53: 4.3 | G53: 2.2 | H53: 07:14:36 | I53: 46000 | J53: North West
A54: EB Left | B54: Ped | C54: NL | D54: cl2_passenger_car | E54: -- | F54: -- | G54: 2.63 | H54: 07:42:53 | I54: 46000 | J54: South West
A55: EB Thru | B55: Ped | C55: EL | D55: cl2_passenger_car | E55: 9.7 | F55: -- | G55: 2.33 | H55: 07:45:05 | I55: 46000 | J55: South West
A56: SB Right | B56: Ped | C56: WL | D56: cl2_passenger_car | E56: -- | F56: -- | G56: 2.82 | H56: 07:48:19 | I56: 46000 | J56: South West
A57: Ped | B57: SB Right | C57: NL | D57: cl2_passenger_car | E57: -- | F57: -- | G57: 2.62 | H57: 07:49:29 | I57: 46000 | J57: North West
...

Sheet Permitted Left Turns
B2: Project Name: | C2: ='Project Summary'!B2 -> Culver City Tri-Schools
B3: QCJobNo: | C3: ='Project Summary'!B1 -> 173042
B4: Date: | C4: 12/9 - 12/11/2025
B5: Duration: | C5: 72 hours | J5: National Comparison | M5: Regional Comparison
B6: Sitecode | C6: Intersection | D6: Conflict Type | E6: Control Type | F6: # of Crossing Lanes | G6: Left Turn Volumes | H6: Thru Volumes | I6: Permitted Left Turn Conflicts | J6: Average Conflicts | K6: Percentile | L6: Sample Size (Locations) | M6: Average Conflicts | N6: Percentile | O6: Sample Size (Locations)
B7: ='Project Summary'!A9 -> 254,255,256 | C7: =_xlfn.XLOOKUP(B7,'Project Summary'!A:A,'Project Summary'!B:B) -> Farragut Dr - Elenda St | D7: NBL x SBT | E7: AWSC* | F7: -- | G7: -- | H7: -- | I7: no NBL | J7: -- | K7: -- | L7: -- | M7: -- | N7: -- | O7: -- | P7: =B7&LEFT(D7,2) -> 254,255,256NB
D8: SBL x NBT | F8: -- | G8: -- | H8: -- | I8: no opp. Thru | J8: -- | K8: -- | L8: -- | M8: -- | N8: -- | O8: -- | P8: =B7&LEFT(D8,2) -> 254,255,256SB
D9: EBL x WBT | F9: -- | G9: -- | H9: -- | I9: 0 | J9: -- | K9: -- | L9: -- | M9: -- | N9: -- | O9: -- | P9: =B7&LEFT(D9,2) -> 254,255,256EB
D10: WBL x EBT | F10: -- | G10: -- | H10: -- | I10: no WBL | J10: -- | K10: -- | L10: -- | M10: -- | N10: -- | O10: -- | P10: =B7&LEFT(D10,2) -> 254,255,256WB
B11: ='Project Summary'!A10 -> 257,258,259 | C11: =_xlfn.XLOOKUP(B11,'Project Summary'!A:A,'Project Summary'!B:B) -> Franklin Ave - Elenda St | D11: NBL x EBT | E11: TWSC | F11: -- | G11: -- | H11: -- | I11: no NBL | J11: -- | K11: -- | L11: -- | M11: -- | N11: -- | O11: -- | P11: =B11&LEFT(D11,2) -> 257,258,259NB
D12: SBL x WBT | F12: -- | G12: -- | H12: -- | I12: no opp. Thru | J12: -- | K12: -- | L12: -- | M12: -- | N12: -- | O12: -- | P12: =B11&LEFT(D12,2) -> 257,258,259SB
D13: EBL x WBT | F13: 1 | G13: Low | H13: Low | I13: 2 | J13: 12.3 | K13: 0.0322 | L13: 360 | M13: 14.1 | N13: 0.0158 | O13: 48 | P13: =B11&LEFT(D13,2) -> 257,258,259EB
D14: WBL x EBT | F14: -- | G14: -- | H14: -- | I14: no WBL | J14: -- | K14: -- | L14: -- | M14: -- | N14: -- | O14: -- | P14: =B11&LEFT(D14,2) -> 257,258,259WB
B15: ='Project Summary'!A11 -> 260,261,262 | C15: =_xlfn.XLOOKUP(B15,'Project Summary'!A:A,'Project Summary'!B:B) -> Braddock Dr - Elenda St | D15: NBL x SBT | E15: AWSC* | F15: -- | G15: -- | H15: -- | I15: 1 | J15: -- | K15: -- | L15: -- | M15: -- | N15: -- | O15: -- | P15: =B15&LEFT(D15,2) -> 260,261,262NB
D16: SBL x NBT | F16: -- | G16: -- | H16: -- | I16: 1 | J16: -- | K16: -- | L16: -- | M16: -- | N16: -- | O16: -- | P16: =B15&LEFT(D16,2) -> 260,261,262SB
D17: EBL x WBT | F17: -- | G17: -- | H17: -- | I17: 0 | J17: -- | K17: -- | L17: -- | M17: -- | N17: -- | O17: -- | P17: =B15&LEFT(D17,2) -> 260,261,262EB
D18: WBL x EBT | F18: -- | G18: -- | H18: -- | I18: 0 | J18: -- | K18: -- | L18: -- | M18: -- | N18: -- | O18: -- | P18: =B15&LEFT(D18,2) -> 260,261,262WB
B19: ='Project Summary'!A12 -> 263,264,265 | C19: =_xlfn.XLOOKUP(B19,'Project Summary'!A:A,'Project Summary'!B:B) -> Lindblade St - Elenda St | D19: NBL x EBT | E19: TWSC | F19: 1 | G19: Low | H19: Low | I19: 0 | J19: 11.4 | K19: 0 | L19: 379 | M19: 12 | N19: 0 | O19: 57 | P19: =B19&LEFT(D19,2) -> 263,264,265NB
D20: SBL x WBT | F20: 1 | G20: Low | H20: Low | I20: 0 | J20: 11.4 | K20: 0 | L20: 379 | M20: 12 | N20: 0 | O20: 57 | P20: =B19&LEFT(D20,2) -> 263,264,265SB
D21: EBL x WBT | F21: 1 | G21: Low | H21: Low | I21: 0 | J21: 12.3 | K21: 0 | L21: 360 | M21: 14.1 | N21: 0 | O21: 48 | P21: =B19&LEFT(D21,2) -> 263,264,265EB
D22: WBL x EBT | F22: 1 | G22: Low | H22: Low | I22: 2 | J22: 12.3 | K22: 0.0322 | L22: 360 | M22: 14.1 | N22: 0.0158 | O22: 48 | P22: =B19&LEFT(D22,2) -> 263,264,265WB
B23: ='Project Summary'!A13 -> 266,267,268 | C23: =_xlfn.XLOOKUP(B23,'Project Summary'!A:A,'Project Summary'!B:B) -> Farragut Dr - Harter Ave/St Nicholas Ave | D23: NBL x SBT | E23: AWSC* | F23: -- | G23: -- | H23: -- | I23: no opp. Thru | J23: -- | K23: -- | L23: -- | M23: -- | N23: -- | O23: -- | P23: =B23&LEFT(D23,2) -> 266,267,268NB
D24: SBL x NBT | F24: -- | G24: -- | H24: -- | I24: no SBL | J24: -- | K24: -- | L24: -- | M24: -- | N24: -- | O24: -- | P24: =B23&LEFT(D24,2) -> 266,267,268SB
D25: EBL x WBT | F25: -- | G25: -- | H25: -- | I25: no EBL | J25: -- | K25: -- | L25: -- | M25: -- | N25: -- | O25: -- | P25: =B23&LEFT(D25,2) -> 266,267,268EB
D26: WBL x EBT | F26: -- | G26: -- | H26: -- | I26: 0 | J26: -- | K26: -- | L26: -- | M26: -- | N26: -- | O26: -- | P26: =B23&LEFT(D26,2) -> 266,267,268WB
B27: ='Project Summary'!A14 -> 269,270,271 | C27: =_xlfn.XLOOKUP(B27,'Project Summary'!A:A,'Project Summary'!B:B) -> Garfield Ave - Elenda St | D27: NBL x EBT | E27: TWSC | F27: -- | G27: -- | H27: -- | I27: no NBL | J27: -- | K27: -- | L27: -- | M27: -- | N27: -- | O27: -- | P27: =B27&LEFT(D27,2) -> 269,270,271NB
D28: SBL x WBT | F28: 1 | G28: Low | H28: Low | I28: 4 | J28: 11.4 | K28: 0.1369 | L28: 379 | M28: 12 | N28: 0.0915 | O28: 57 | P28: =B27&LEFT(D28,2) -> 269,270,271SB
D29: EBL x WBT | F29: 1 | G29: Low | H29: Low | I29: 2 | J29: 12.3 | K29: 0.0322 | L29: 360 | M29: 14.1 | N29: 0.0158 | O29: 48 | P29: =B27&LEFT(D29,2) -> 269,270,271EB
D30: WBL x EBT | F30: -- | G30: -- | H30: -- | I30: no WBL | J30: -- | K30: -- | L30: -- | M30: -- | N30: -- | O30: -- | P30: =B27&LEFT(D30,2) -> 269,270,271WB
B31: ='Project Summary'!A15 -> 272,273,274 | C31: =_xlfn.XLOOKUP(B31,'Project Summary'!A:A,'Project Summary'!B:B) -> Ocean Dr - Westwood Blvd | D31: NBL x SBT | E31: AWSC* | F31: -- | G31: -- | H31: -- | I31: no NBL | J31: -- | K31: -- | L31: -- | M31: -- | N31: -- | O31: -- | P31: =B31&LEFT(D31,2) -> 272,273,274NB
D32: SBL x NBT | F32: -- | G32: -- | H32: -- | I32: 2 | J32: -- | K32: -- | L32: -- | M32: -- | N32: -- | O32: -- | P32: =B31&LEFT(D32,2) -> 272,273,274SB
D33: EBL x WBT | F33: -- | G33: -- | H33: -- | I33: no EBL | J33: -- | K33: -- | L33: -- | M33: -- | N33: -- | O33: -- | P33: =B31&LEFT(D33,2) -> 272,273,274EB
D34: WBL x EBT | F34: -- | G34: -- | H34: -- | I34: no opp. Thru | J34: -- | K34: -- | L34: -- | M34: -- | N34: -- | O34: -- | P34: =B31&LEFT(D34,2) -> 272,273,274WB
E36: * Permitted left turn analysis not available for All-Way Stop Controlled intersections
B39: Sample Size - National (count hours)
B41: Control Type | C41: # of Crossing Lanes | D41: Left Volume Bin | E41: Thru Volume Bin | F41: Primary Movement | G41: 0 | H41: 0.041666667 | I41: 0.083333333 | J41: 0.125 | K41: 0.16666667 | L41: 0.20833333 | M41: 0.25 | N41: 0.29166667 | O41: 0.33333333 | P41: 0.375 | Q41: 0.41666667 | R41: 0.45833333 | S41: 0.5 | T41: 0.54166667 | U41: 0.58333333 | V41: 0.625 | W41: 0.66666667 | X41: 0.70833333 | Y41: 0.75 | Z41: 0.79166667 | AA41: 0.83333333 | AB41: 0.875 | AC41: 0.91666667 | AD41: 0.95833333
B42: TWSC | C42: 1 | D42: Low | E42: Low | F42: Yes | G42: 72 | H42: 73 | I42: 71 | J42: 72 | K42: 72 | L42: 80 | M42: 236 | N42: 311 | O42: 315 | P42: 224 | Q42: 206 | R42: 221 | S42: 219 | T42: 217 | U42: 225 | V42: 244 | W42: 310 | X42: 310 | Y42: 224 | Z42: 115 | AA42: 86 | AB42: 79 | AC42: 75 | AD42: 75
B43: TWSC | C43: 1 | D43: Low | E43: Low | F43: No | G43: 60 | H43: 60 | I43: 60 | J43: 59 | K43: 59 | L43: 65 | M43: 243 | N43: 332 | O43: 335 | P43: 227 | Q43: 201 | R43: 218 | S43: 213 | T43: 211 | U43: 207 | V43: 240 | W43: 295 | X43: 296 | Y43: 207 | Z43: 111 | AA43: 74 | AB43: 70 | AC43: 62 | AD43: 62
B46: Sample Size - Regional (count hours)
B48: Control Type | C48: # of Crossing Lanes | D48: Left Volume Bin | E48: Thru Volume Bin | F48: Primary Movement | G48: 0 | H48: 0.041666667 | I48: 0.083333333 | J48: 0.125 | K48: 0.16666667 | L48: 0.20833333 | M48: 0.25 | N48: 0.29166667 | O48: 0.33333333 | P48: 0.375 | Q48: 0.41666667 | R48: 0.45833333 | S48: 0.5 | T48: 0.54166667 | U48: 0.58333333 | V48: 0.625 | W48: 0.66666667 | X48: 0.70833333 | Y48: 0.75 | Z48: 0.79166667 | AA48: 0.83333333 | AB48: 0.875 | AC48: 0.91666667 | AD48: 0.95833333
...

Sheet User Guide
B2: QC's Near Miss User Guide
B4: - In the Project Summary tab, the Site Names are links. When you click the link the report will bring you the full site details in the Location Details tab.
B6: - The near miss reports are location specific. All time periods studied across all days are combined.
B8: - In the Near Miss Summary chart, you will see links to videos showing 1.5 second, 2.0 second, and 3.0 second near miss conflicts.
B10: - For each near miss conflict, the object in Column A crossed in front of the object in Column B.
B12: - Our near miss prioritizes conflicting movements that lead to serious injury or fatal crashes. For vehicle-to-vehicle near misses, this includes left turns crossing before the through and intersecting through movements. For bikes and pedestrians, we include any and all conflicts involving bikes or pedestrians. This means you will often see bike/ped conflicts that are not near misses, but our philosophy is to include them still because we think you will benefit from seeing how cyclists and pedestrians are utilizing the roadway.
B15: - Depending on the camera angles, some near miss reports have more errors than others. For future projects, please let us know if any locations have specific regions of interest or movements of concern, and we will pay extra attention selecting the placements of the cameras.
B17: - Lastly, this is a new service by QC and we welcome your feedback on how these reports could be more useful. We appreciate your feedback and your help!

Sheet pet_borders
B1: 1.5 sec | C1: 2.0 sec
A2: 0 | B2: 1.5 | C2: 2
A3: =A2+TIME(1,0,0) -> 0.041666667 | B3: 1.5 | C3: 2
A4: =A3+TIME(1,0,0) -> 0.083333333 | B4: 1.5 | C4: 2
A5: =A4+TIME(1,0,0) -> 0.125 | B5: 1.5 | C5: 2
A6: =A5+TIME(1,0,0) -> 0.16666667 | B6: 1.5 | C6: 2
A7: =A6+TIME(1,0,0) -> 0.20833333 | B7: 1.5 | C7: 2
A8: =A7+TIME(1,0,0) -> 0.25 | B8: 1.5 | C8: 2
A9: =A8+TIME(1,0,0) -> 0.29166667 | B9: 1.5 | C9: 2
A10: =A9+TIME(1,0,0) -> 0.33333333 | B10: 1.5 | C10: 2
A11: =A10+TIME(1,0,0) -> 0.375 | B11: 1.5 | C11: 2
A12: =A11+TIME(1,0,0) -> 0.41666667 | B12: 1.5 | C12: 2
A13: =A12+TIME(1,0,0) -> 0.45833333 | B13: 1.5 | C13: 2
A14: =A13+TIME(1,0,0) -> 0.5 | B14: 1.5 | C14: 2
... A26: =A25+TIME(1,0,0) -> 1 | B26: 1.5 | C26: 2
